BEGIN:VCALENDAR
VERSION:2.0
PRODID:-//Hrvatska biskupska konferencija - ECPv6.15.10//NONSGML v1.0//EN
CALSCALE:GREGORIAN
METHOD:PUBLISH
X-WR-CALNAME:Hrvatska biskupska konferencija
X-ORIGINAL-URL:https://hbk.hr
X-WR-CALDESC:Događaji za Hrvatska biskupska konferencija
REFRESH-INTERVAL;VALUE=DURATION:PT1H
X-Robots-Tag:noindex
X-PUBLISHED-TTL:PT1H
BEGIN:VTIMEZONE
TZID:Europe/Helsinki
BEGIN:DAYLIGHT
TZOFFSETFROM:+0200
TZOFFSETTO:+0300
TZNAME:EEST
DTSTART:20180325T010000
END:DAYLIGHT
BEGIN:STANDARD
TZOFFSETFROM:+0300
TZOFFSETTO:+0200
TZNAME:EET
DTSTART:20181028T010000
END:STANDARD
BEGIN:DAYLIGHT
TZOFFSETFROM:+0200
TZOFFSETTO:+0300
TZNAME:EEST
DTSTART:20190331T010000
END:DAYLIGHT
BEGIN:STANDARD
TZOFFSETFROM:+0300
TZOFFSETTO:+0200
TZNAME:EET
DTSTART:20191027T010000
END:STANDARD
BEGIN:DAYLIGHT
TZOFFSETFROM:+0200
TZOFFSETTO:+0300
TZNAME:EEST
DTSTART:20200329T010000
END:DAYLIGHT
BEGIN:STANDARD
TZOFFSETFROM:+0300
TZOFFSETTO:+0200
TZNAME:EET
DTSTART:20201025T010000
END:STANDARD
END:VTIMEZONE
BEGIN:VEVENT
DTSTART;VALUE=DATE:20190822
DTEND;VALUE=DATE:20190825
DTSTAMP:20260423T043806
CREATED:20190819T120742Z
LAST-MODIFIED:20190819T121949Z
UID:4133-1566435600-1566608399@hbk.hr
SUMMARY:Katehetska ljetna škola za vjeroučitelje srednjih škola\, 22. - 23. kolovoza 2019.
DESCRIPTION:Tema: Učenje vjere u susretu sa stvarnošću \n  \nProgram \nČetvrtak\, 22. kolovoza 2019. \n09.00 – 09.10  Molitveni početak \n09.10 – 09.45  Pozdravni govori/ Uvod u rad Škole \n09.45 – 10.30  Bog i zbilja: filozofsko promišljanje\, doc. dr. sc. Saša Horvat \n10.30 – 11.00  Tematska rasprava \n11.00 – 11.30  Odmor \n11.30 – 12.15  Filozofija obrazovanja u misli Johna Henryja Newmana\, izv. prof. dr. sc. Šimo Šokčević \n12.15 – 12.45  Tematska rasprava \n12.45 – 15.00  Odmor \n15.00 – 16.30  Pedagoške radionice u skupinama \n16.30 – 17.00  Odmor \n17.00 – 18.30  Pedagoške radionice u skupinama \n  \nPetak\, 23. kolovoza 2019. \n08.00 – 08.45  Euharistijsko slavlje \n09.15 – 10.00  Stvarnost odgoja i obrazovanja u globalizacijskim uvjetima\,  prof. dr. sc. Sofija Vrcelj \n10.00 – 10.30  Tematska rasprava \n10.30 – 11.00  Odmor \n11.00 – 11.45  Učenje kao dekonstruiranje stvarnosti u susretu s digitalnim medijima\, doc. dr. sc. Nevenka Maras \n11.45 – 12.15 Tematska rasprava \n12.15 – 14.30  Odmor \n14.30 – 16.00 Pedagoške radionice u skupinama \n16.00 –  16.30  Odmor \n16.30 –  17.30  Zaključci škole \n  \nTeme i voditelji/ce radionica: \n\n Kurikulski pristup planiranju\, učenju i poučavanju\n\n(Krešimir Biršić\, prof. i Ivan Mikolić\, prof.) \n\n Udžbenik u nastavi vjeronauka – Dođi i vidi 1\n\n(Mihovil Kurkut\, prof. i Marin Periš\, prof.) \n\n Promicanje kreativnosti učenika putem projekata\n\n(Renata Ozorlić Dominić\, univ. spec. philol. i Boris Vampula\, univ. spec. cin.) \n  \n 
URL:https://hbk.hr/kalendar/katehetska-ljetna-skola-za-vjeroucitelje-srednjih-skola-22-23-kolovoza-2019/
CATEGORIES:Najave
END:VEVENT
BEGIN:VEVENT
DTSTART;VALUE=DATE:20190826
DTEND;VALUE=DATE:20190829
DTSTAMP:20260423T043806
CREATED:20190819T114534Z
LAST-MODIFIED:20190819T121009Z
UID:4131-1566781200-1566953999@hbk.hr
SUMMARY:Katehetska ljetna škola za vjeroučitelje osnovnih škola\, Split\, 26. - 27. kolovoza 2019.
DESCRIPTION:Tema: Katolički vjeronauk u procesu kurikularne reforme \n  \n26. kolovoza (ponedjeljak) \n9\,00 sati                                 Molitva \nPozdravi \nUvod u rad Škole \n10\,00 – 11\,00 sati               Katolički vjeronauk između poniznosti i nade\, izv. prof. dr. sc. Ivica PAŽIN \nTematska rasprava \n11\,00 – 11\,30 sati                   Stanka \n11\,30 – 13\,00 sati                   Povezanost odgojno-obrazovnih ishoda i vrednovanja s naglaskom na stvaralačke procese u nastavi\, Anita BAKOVLJANEC\, prof. i Ivana HAC\, prof. \nTematska rasprava \n13\,00 – 16\,00 sati                   Odmor \n16\,00 – 17\,30 sati                  Rad u skupinama \n1.      Upoznavanje i primjena vjeronaučnog udžbenika katoličkoga vjeronauka za 1. razred osnovne škole (Tihana Petković\, Suzana Lipovac\, Ana Volf i Ivan Mikolić) \n2.      Upoznavanje i primjena vjeronaučnog udžbenika katoličkoga vjeronauka za 5. razred osnovne škole (Barbara Sipina\, Mirjana Novak\, Marica Celjak i Mirela Rod-Slipčević) \n3.      Ishodovno iščitavanje kurikuluma (Miranda Banovac\, Zdenka Krokar\, Ružica Maleš i Mirjana Vuletić) \n18\,00 sati                               Euharistijsko slavlje \n  \n27. kolovoza (utorak) \n9\,00                                        Molitva \n9\,15  – 11\,00 sati                 Aktivnosti u procesu vrednovanja razvoja učeničkih kompetencija – izrada zadataka\, Zvonimir Lončar\, prof. i Gordan Premuš\, prof. \nTematska rasprava \n11\,00 – 11\,30 sati                   Stanka \n11\,30 – 13\,00 sati                   Rad u skupinama \n13\,00 – 16\,00 sati                   Odmor \n16\,00 – 17\,30 sati                   Rad u skupinama \n17\,00 – 17\,30 sati                   Stanka
URL:https://hbk.hr/kalendar/katehetska-ljetna-skola-za-vjeroucitelje-osnovnih-skola-split-26-27-kolovoza-2019/
CATEGORIES:Najave
END:VEVENT
END:VCALENDAR