BEGIN:VCALENDAR
VERSION:2.0
PRODID:-//Hrvatska biskupska konferencija - ECPv6.15.10//NONSGML v1.0//EN
CALSCALE:GREGORIAN
METHOD:PUBLISH
X-ORIGINAL-URL:https://hbk.hr
X-WR-CALDESC:Događaji za Hrvatska biskupska konferencija
REFRESH-INTERVAL;VALUE=DURATION:PT1H
X-Robots-Tag:noindex
X-PUBLISHED-TTL:PT1H
BEGIN:VTIMEZONE
TZID:Europe/Helsinki
BEGIN:DAYLIGHT
TZOFFSETFROM:+0200
TZOFFSETTO:+0300
TZNAME:EEST
DTSTART:20180325T010000
END:DAYLIGHT
BEGIN:STANDARD
TZOFFSETFROM:+0300
TZOFFSETTO:+0200
TZNAME:EET
DTSTART:20181028T010000
END:STANDARD
BEGIN:DAYLIGHT
TZOFFSETFROM:+0200
TZOFFSETTO:+0300
TZNAME:EEST
DTSTART:20190331T010000
END:DAYLIGHT
BEGIN:STANDARD
TZOFFSETFROM:+0300
TZOFFSETTO:+0200
TZNAME:EET
DTSTART:20191027T010000
END:STANDARD
BEGIN:DAYLIGHT
TZOFFSETFROM:+0200
TZOFFSETTO:+0300
TZNAME:EEST
DTSTART:20200329T010000
END:DAYLIGHT
BEGIN:STANDARD
TZOFFSETFROM:+0300
TZOFFSETTO:+0200
TZNAME:EET
DTSTART:20201025T010000
END:STANDARD
END:VTIMEZONE
BEGIN:VEVENT
DTSTART;TZID=Europe/Helsinki:20191211T120000
DTEND;TZID=Europe/Helsinki:20191211T130000
DTSTAMP:20260422T220723
CREATED:20191209T135905Z
LAST-MODIFIED:20191209T141243Z
UID:4453-1576065600-1576069200@hbk.hr
SUMMARY:Konferencija za novinare Hrvatskoga Caritasa\, 11. prosinca 2019.
DESCRIPTION:Pozivamo Vas na konferenciju za novinare Hrvatskog Caritasa koja će se održati u srijedu 11. prosinca u 11 sati u prostorijama Hrvatske biskupske konferencije\, Ksaverska cesta 12a u Zagrebu. \nNa konferenciji ćemo: \n\nnajaviti središnji tradicionalni promotivno-humanitarni događaj nacionalnog programa „Za 1000 radosti – Probudi dobro u svijetu!“ uz humanitarnu prodaju božićnih drvaca\, koji će se ove godine u subotu 14. prosinca od 8 do 13 sati održati na Trgu bana J. Jelačića\, i to18. godinu zaredom\, u suradnji s „Hrvatskim šumama“ i Gradom Zagrebom.\nizvijestiti o dosad poduzetim aktivnostima u nacionalnim programima Hrvatskog Caritasa „Za 1000 radosti“ i „Nedjelja Caritasa“\n\nUz predsjednika Hrvatskog Caritasa  mons. Josipa Mrzljaka i ravnatelja Hrvatskog Caritasa mons. Fabijana Svalinu\, na konferenciji očekujemo sudjelovanje Damira Miškulina\, voditelja Uprave UŠP Zagreb Hrvatskih šuma\, predstavnika Grada Zagreba\, kao i predstavnike Ministarstva znanosti i obrazovanja\, predsjednika Uprave Privredne banke Zagreb te ravnateljicu Nadbiskupske klasične gimnazije prof. Ljubu Duvnjak te predstavnika volontera Franjevačke mladeži i Franjevačkoga svjetovnog reda. \nPozivamo vas da nazočite ovom događaju te izvještavanjem poduprete nastojanja svih dionika nacionalnog programa „Za 1000 radosti“ u djelotvornom pomaganju našim najsiromašnijim obiteljima! \nKONTAKT: boris.peterlin@caritas.hr; tel.  01 5635 046; mob. 091 2635 011 \n 
URL:https://hbk.hr/kalendar/konferencija-za-novinare-hrvatskoga-caritasa-11-12-2019/
CATEGORIES:Najave
END:VEVENT
END:VCALENDAR