BEGIN:VCALENDAR
VERSION:2.0
PRODID:-//Hrvatska biskupska konferencija - ECPv6.15.10//NONSGML v1.0//EN
CALSCALE:GREGORIAN
METHOD:PUBLISH
X-WR-CALNAME:Hrvatska biskupska konferencija
X-ORIGINAL-URL:https://hbk.hr
X-WR-CALDESC:Događaji za Hrvatska biskupska konferencija
REFRESH-INTERVAL;VALUE=DURATION:PT1H
X-Robots-Tag:noindex
X-PUBLISHED-TTL:PT1H
BEGIN:VTIMEZONE
TZID:Europe/Helsinki
BEGIN:DAYLIGHT
TZOFFSETFROM:+0200
TZOFFSETTO:+0300
TZNAME:EEST
DTSTART:20190331T010000
END:DAYLIGHT
BEGIN:STANDARD
TZOFFSETFROM:+0300
TZOFFSETTO:+0200
TZNAME:EET
DTSTART:20191027T010000
END:STANDARD
BEGIN:DAYLIGHT
TZOFFSETFROM:+0200
TZOFFSETTO:+0300
TZNAME:EEST
DTSTART:20200329T010000
END:DAYLIGHT
BEGIN:STANDARD
TZOFFSETFROM:+0300
TZOFFSETTO:+0200
TZNAME:EET
DTSTART:20201025T010000
END:STANDARD
BEGIN:DAYLIGHT
TZOFFSETFROM:+0200
TZOFFSETTO:+0300
TZNAME:EEST
DTSTART:20210328T010000
END:DAYLIGHT
BEGIN:STANDARD
TZOFFSETFROM:+0300
TZOFFSETTO:+0200
TZNAME:EET
DTSTART:20211031T010000
END:STANDARD
END:VTIMEZONE
BEGIN:VEVENT
DTSTART;TZID=Europe/Helsinki:20200421T090000
DTEND;TZID=Europe/Helsinki:20200423T180000
DTSTAMP:20260422T153353
CREATED:20191112T094420Z
LAST-MODIFIED:20200407T190615Z
UID:4335-1587459600-1587664800@hbk.hr
SUMMARY:ODGOĐENO - 60. zasjedanje HBK\, Zagreb\, 21. - 23. travnja 2020.
DESCRIPTION:Redovito\, plenarno 60. zasjedanje Sabora Hrvatske biskupske konferencije\, pod predsjedanjem predsjednika HBK zadarskog nadbiskupa Želimira Puljića\, održat će se od 21. do 23. travnja 2020. u Zagrebu\, u sjedištu HBK\, Ksaverska cesta 12a.
URL:https://hbk.hr/kalendar/60-zasjedanje-hbk-zagreb-21-23-travnja-2020/
CATEGORIES:Najave
END:VEVENT
END:VCALENDAR