BEGIN:VCALENDAR
VERSION:2.0
PRODID:-//Hrvatska biskupska konferencija - ECPv6.15.10//NONSGML v1.0//EN
CALSCALE:GREGORIAN
METHOD:PUBLISH
X-ORIGINAL-URL:https://hbk.hr
X-WR-CALDESC:Događaji za Hrvatska biskupska konferencija
REFRESH-INTERVAL;VALUE=DURATION:PT1H
X-Robots-Tag:noindex
X-PUBLISHED-TTL:PT1H
BEGIN:VTIMEZONE
TZID:Europe/Helsinki
BEGIN:DAYLIGHT
TZOFFSETFROM:+0200
TZOFFSETTO:+0300
TZNAME:EEST
DTSTART:20170326T010000
END:DAYLIGHT
BEGIN:STANDARD
TZOFFSETFROM:+0300
TZOFFSETTO:+0200
TZNAME:EET
DTSTART:20171029T010000
END:STANDARD
BEGIN:DAYLIGHT
TZOFFSETFROM:+0200
TZOFFSETTO:+0300
TZNAME:EEST
DTSTART:20180325T010000
END:DAYLIGHT
BEGIN:STANDARD
TZOFFSETFROM:+0300
TZOFFSETTO:+0200
TZNAME:EET
DTSTART:20181028T010000
END:STANDARD
BEGIN:DAYLIGHT
TZOFFSETFROM:+0200
TZOFFSETTO:+0300
TZNAME:EEST
DTSTART:20190331T010000
END:DAYLIGHT
BEGIN:STANDARD
TZOFFSETFROM:+0300
TZOFFSETTO:+0200
TZNAME:EET
DTSTART:20191027T010000
END:STANDARD
END:VTIMEZONE
BEGIN:VEVENT
DTSTART;TZID=Europe/Helsinki:20181211T120000
DTEND;TZID=Europe/Helsinki:20181211T130000
DTSTAMP:20260423T063343
CREATED:20181207T143304Z
LAST-MODIFIED:20181207T143304Z
UID:2553-1544529600-1544533200@hbk.hr
SUMMARY:Konferencija za novinare Hrvatskog Caritasa
DESCRIPTION:Konferencija za novinare Hrvatskog Caritasa održat će se u utorak 11. prosinca u 11 sati u prostorijama Hrvatske biskupske konferencije\, Ksaverska cesta 12a u Zagrebu. \nNa konferenciji će biti: \n\nnajavljen središnji tradicionalni promotivno-humanitarni događaj akcije „Za 1000 radosti – Pomažemo zajedno“ uz humanitarnu prodaju božićnih drvaca\, koji će se ove godine održati u subotu 15. prosinca od 8 do 13 sati na Trgu bana J. Jelačića\, i to 17. godinu zaredom\, u suradnji s „Hrvatskim šumama i Gradom Zagrebom.\npredstavljene dosad poduzete aktivnosti u nacionalnim akcijama Hrvatskog Caritasa „Za 1000 radosti“ i „Nedjelja Caritasa“\nnajavljen završni događaj obilježavanja  obljetnice Hrvatskog Caritasa – svečano liturgijsko slavlje koje će se na Nedjelju Caritasa\, 16. prosinca u 10 sati slaviti u crkvi sv. Filipa i Jakova u Vukovaru.\n\nUz predsjednika Hrvatskog Caritasa  mons. Josipa Mrzljaka i ravnatelja Hrvatskog Caritasa mons. Fabijana Svalinu na konferenciji očekujemo sudjelovanje Milana Bandića\, gradonačelnika Grada Zagreba\, Damira Miškulina\, voditelja Uprave UŠP Zagreb Hrvatskih šuma\,  predstavnike Ministarstva znanosti i obrazovanja\, Ministarstva za demografiju\, obitelj\, mlade i socijalnu politiku\, donatorskih tvrtki podupiratelja\, te volontera i škola u kojima je akcija provedena.
URL:https://hbk.hr/kalendar/konferencija-za-novinare-hrvatskog-caritasa/
END:VEVENT
END:VCALENDAR