BEGIN:VCALENDAR
VERSION:2.0
PRODID:-//Hrvatska biskupska konferencija - ECPv6.15.10//NONSGML v1.0//EN
CALSCALE:GREGORIAN
METHOD:PUBLISH
X-WR-CALNAME:Hrvatska biskupska konferencija
X-ORIGINAL-URL:https://hbk.hr
X-WR-CALDESC:Događaji za Hrvatska biskupska konferencija
REFRESH-INTERVAL;VALUE=DURATION:PT1H
X-Robots-Tag:noindex
X-PUBLISHED-TTL:PT1H
BEGIN:VTIMEZONE
TZID:Europe/Helsinki
BEGIN:DAYLIGHT
TZOFFSETFROM:+0200
TZOFFSETTO:+0300
TZNAME:EEST
DTSTART:20180325T010000
END:DAYLIGHT
BEGIN:STANDARD
TZOFFSETFROM:+0300
TZOFFSETTO:+0200
TZNAME:EET
DTSTART:20181028T010000
END:STANDARD
BEGIN:DAYLIGHT
TZOFFSETFROM:+0200
TZOFFSETTO:+0300
TZNAME:EEST
DTSTART:20190331T010000
END:DAYLIGHT
BEGIN:STANDARD
TZOFFSETFROM:+0300
TZOFFSETTO:+0200
TZNAME:EET
DTSTART:20191027T010000
END:STANDARD
BEGIN:DAYLIGHT
TZOFFSETFROM:+0200
TZOFFSETTO:+0300
TZNAME:EEST
DTSTART:20200329T010000
END:DAYLIGHT
BEGIN:STANDARD
TZOFFSETFROM:+0300
TZOFFSETTO:+0200
TZNAME:EET
DTSTART:20201025T010000
END:STANDARD
END:VTIMEZONE
BEGIN:VEVENT
DTSTART;VALUE=DATE:20190110
DTEND;VALUE=DATE:20190113
DTSTAMP:20260423T052718
CREATED:20190107T094959Z
LAST-MODIFIED:20190111T091842Z
UID:3122-1547082000-1547254799@hbk.hr
SUMMARY:Katehetska zimska škola\, 10. i 11. siječnja 2019.
DESCRIPTION:Nacionalni katehetski ured Hrvatske biskupske konferencije\, u suradnji s Agencijom za odgoj i obrazovanje\, organizira Katehetsku zimsku školu za vjeroučiteljice i vjeroučitelje u osnovnim školama na temu: VJERA-ZNANJE-ISKUSTVO. O vredovanju ne-mjerljivog. \nŠkola će se održati u prostorijama Nadbiskupijskog pastoralnog instituta u Zagrebu\, Kaptol 29a\,  i OŠ Miroslava Krleže\,  Kaptol 16\, Zagreb.\, 10. i 11. siječnja 2019. \n  \n 
URL:https://hbk.hr/kalendar/katehetska-zimska-skola-za-vjerouciteljice-i-vjeroucitelje-u-osnovnim-skolama/
ATTACH;FMTTYPE=image/jpeg:https://hbk.hr/wp-content/uploads/2019/01/190110-Zimska-katehetska-skola-2019_plakat-e1547200810777.jpg
END:VEVENT
BEGIN:VEVENT
DTSTART;VALUE=DATE:20190121
DTEND;VALUE=DATE:20190123
DTSTAMP:20260423T052718
CREATED:20181206T121241Z
LAST-MODIFIED:20181213T091758Z
UID:2480-1548032400-1548118799@hbk.hr
SUMMARY:Zajedničko zasjedanje HBK i BKBIH\, 21. siječnja 2019.
DESCRIPTION:Zajedničko zasjedanje članova HBK i BKBIH bit će 21. siječnja 2019. u prostorima Hrvatske biskupske konferencije na Ksaveru\, u Zagrebu.
URL:https://hbk.hr/kalendar/zajednicko-zasjedanje-hbk-i-bkbih/
END:VEVENT
BEGIN:VEVENT
DTSTART;VALUE=DATE:20190123
DTEND;VALUE=DATE:20190125
DTSTAMP:20260423T052718
CREATED:20181203T130437Z
LAST-MODIFIED:20181213T091834Z
UID:2250-1548205200-1548291599@hbk.hr
SUMMARY:Izvanredno zasjedanje HBK\, 23. siječnja 2019.
DESCRIPTION:Izvanredno zasjedanje HBK održat će se 23. siječnja 2019. u prostorima Hrvatske biskupske konferencije na Ksaveru u Zagrebu.
URL:https://hbk.hr/kalendar/izvanredno-zasjedanje-hbk/
LOCATION:HBK
CATEGORIES:Najave
END:VEVENT
BEGIN:VEVENT
DTSTART;VALUE=DATE:20190125
DTEND;VALUE=DATE:20190127
DTSTAMP:20260423T052718
CREATED:20190123T125059Z
LAST-MODIFIED:20190123T131017Z
UID:3335-1548378000-1548464399@hbk.hr
SUMMARY:Predstavljanje poruke u povodu Dana života\, 25. siječnja 2019.
DESCRIPTION:Konferencija za novinare u povodu Dana života koji se ove godine proslavlja u nedjelju\, 3. veljače\, održat će se u petak\, 25. siječnja 2019. u prostorima Hrvatske biskupske konferencije\, Ksaverska cesta 12a\, u Zagrebu s početkom u 12. 30 sati.  \nNa konferenciji će predsjednik Vijeća HBK za život i obitelj dubrovački biskup Mate Uzinić predstaviti prigodnu poruku u povodu Dana života. \nUjedno će biti predstavljeni naglasci i zaključci kolokvija o savjesti i kulturi života koje organizira isto Vijeće HBK.
URL:https://hbk.hr/kalendar/predstavljanje-poruke-u-povodu-dana-zivota-25-sijecnja-2019/
END:VEVENT
END:VCALENDAR