BEGIN:VCALENDAR
VERSION:2.0
PRODID:-//Hrvatska biskupska konferencija - ECPv6.15.10//NONSGML v1.0//EN
CALSCALE:GREGORIAN
METHOD:PUBLISH
X-WR-CALNAME:Hrvatska biskupska konferencija
X-ORIGINAL-URL:https://hbk.hr
X-WR-CALDESC:Događaji za Hrvatska biskupska konferencija
REFRESH-INTERVAL;VALUE=DURATION:PT1H
X-Robots-Tag:noindex
X-PUBLISHED-TTL:PT1H
BEGIN:VTIMEZONE
TZID:Europe/Helsinki
BEGIN:DAYLIGHT
TZOFFSETFROM:+0200
TZOFFSETTO:+0300
TZNAME:EEST
DTSTART:20180325T010000
END:DAYLIGHT
BEGIN:STANDARD
TZOFFSETFROM:+0300
TZOFFSETTO:+0200
TZNAME:EET
DTSTART:20181028T010000
END:STANDARD
BEGIN:DAYLIGHT
TZOFFSETFROM:+0200
TZOFFSETTO:+0300
TZNAME:EEST
DTSTART:20190331T010000
END:DAYLIGHT
BEGIN:STANDARD
TZOFFSETFROM:+0300
TZOFFSETTO:+0200
TZNAME:EET
DTSTART:20191027T010000
END:STANDARD
BEGIN:DAYLIGHT
TZOFFSETFROM:+0200
TZOFFSETTO:+0300
TZNAME:EEST
DTSTART:20200329T010000
END:DAYLIGHT
BEGIN:STANDARD
TZOFFSETFROM:+0300
TZOFFSETTO:+0200
TZNAME:EET
DTSTART:20201025T010000
END:STANDARD
END:VTIMEZONE
BEGIN:VEVENT
DTSTART;VALUE=DATE:20190403
DTEND;VALUE=DATE:20190407
DTSTAMP:20260423T004522
CREATED:20190403T063043Z
LAST-MODIFIED:20190403T063043Z
UID:3707-1554253200-1554512399@hbk.hr
SUMMARY:Državno natjecanje iz vjeronauka\, 3. - 5. travnja 2019.
DESCRIPTION:Državno natjecanje iz vjeronauka – „Vjeronaučna olimpijada“ – u organizaciji nacionalnog katehetskog ureda Hrvatske biskupske konferencije održat će se u Osijeku i Đakovu od 3. do 5. travnja 2019. na temu „Svjedoci radosne vijesti u hrvatskom narodu!”.
URL:https://hbk.hr/kalendar/drzavno-natjecanje-iz-vjeronauka-3-5-travnja-2019/
END:VEVENT
BEGIN:VEVENT
DTSTART;VALUE=DATE:20190413
DTEND;VALUE=DATE:20190415
DTSTAMP:20260423T004522
CREATED:20190328T085130Z
LAST-MODIFIED:20190328T085215Z
UID:3694-1555117200-1555203599@hbk.hr
SUMMARY:Uvođenje u službu mons. Milana Stipića\, 13. travnja 2019.
DESCRIPTION:Imenovani apostolski upravitelj Križevačke eparhije mons. Milan Stipić bit će svečano uveden u službu na Lazarovu subotu 13. travnja 2019. u 10.30 sati u grkokatoličkoj katedrali Presvete Trojice u Križevcima na arhijerijskoj liturgiji koju će predslužiti umirovljeni križevački vladika Nikola Kekić.
URL:https://hbk.hr/kalendar/uvodenje-u-sluzbu-apostolskog-upravitelja-krizevacke-eparhije-mons-milana-stipica/
END:VEVENT
BEGIN:VEVENT
DTSTART;VALUE=DATE:20190422
DTEND;VALUE=DATE:20190424
DTSTAMP:20260423T004522
CREATED:20190313T120959Z
LAST-MODIFIED:20190313T121048Z
UID:3565-1555894800-1555981199@hbk.hr
SUMMARY:Biskupsko ređenje mons. Ivana Ćurića\, 22. travnja 2019.
DESCRIPTION:Biskupsko ređenje mons. Ivana Ćurića bit će na Uskrsni ponedjeljak\, 22. travnja\, u 16.30 sati u đakovačkoj Katedrali sv. Petra.
URL:https://hbk.hr/kalendar/biskupsko-redenje-mons-ivana-curica/
END:VEVENT
BEGIN:VEVENT
DTSTART;VALUE=DATE:20190426
DTEND;VALUE=DATE:20190430
DTSTAMP:20260423T004522
CREATED:20190424T123750Z
LAST-MODIFIED:20190424T124609Z
UID:3811-1556240400-1556499599@hbk.hr
SUMMARY:Nacionalni studijski dani\, 26. - 28. travnja 2019.
DESCRIPTION:Treći nacionalni studijski dani za djelatnike pastorala braka i obitelji u organizaciji Vijeća odnosno Ureda Hrvatske biskupske konferencije za život i obitelj te Šibenske biskupije održat će se od 26. do 28. travnja 2019. godine u Katoličkom školskom centru u Šibeniku. Tema studijskih dana je Starije osobe i međugeneracijska solidarnost – Poslanje djedova i baka. Svečano otvorenje bit će u petak\, 26. travnja\, u 17 sati nakon kojega će uslijediti prvo predavanje prof. dr. sc. Ane Štambuk o ulozi starijih osoba u obitelji\, Crkvi i društvu te o aktualnim izazovima s kojima se susreću. Drugoga dana\, 27. travnja\, bit će održana tri predavanja: prof. dr. sc. Vladimir Dugalić govorit će o djedovima i bakama – mudrim prenositeljima kreposti i vjere\, prof. dr. sc. Gordan Črpić o međugeneracijskoj solidarnosti kao odgovoru na kulturu odbacivanja\, a prof. dr. sc. Andreja Brajša-Žganec o međugeneracijskoj obiteljskoj solidarnosti. Sudionici koji dolaze iz čitave Hrvatske\, ali i iz Bosne i Hercegovine\, sadržaje predavanja produbljivat će kroz tri interaktivne radionice\, a djeca sudionika imat će zaseban tematski program animacije. Na događanju će sudjelovat i inozemne gošće Catherine Wiley i Metka Zevnik koje će sudionike upoznati s iskustvima udruživanja djedova i baka u drugim zemljama. Radni dio studijskih dana završavava u nedjelju ujutro izviješćima iz radionica i zaključcima. Program predviđa i dva euharistijska slavlja: u subotu 27. travnja predvečer u biskupijskom marijanskom svetištu u Vrpolju\, a u nedjelju\, 28. travnja u šibenskoj katedrali.
URL:https://hbk.hr/kalendar/nacionalni-studijski-dani-za-djelatnike-pastorala-braka-i-obitelji-sibenik-26-28-travnja-2019/
END:VEVENT
END:VCALENDAR