BEGIN:VCALENDAR
VERSION:2.0
PRODID:-//Hrvatska biskupska konferencija - ECPv6.15.10//NONSGML v1.0//EN
CALSCALE:GREGORIAN
METHOD:PUBLISH
X-WR-CALNAME:Hrvatska biskupska konferencija
X-ORIGINAL-URL:https://hbk.hr
X-WR-CALDESC:Događaji za Hrvatska biskupska konferencija
REFRESH-INTERVAL;VALUE=DURATION:PT1H
X-Robots-Tag:noindex
X-PUBLISHED-TTL:PT1H
BEGIN:VTIMEZONE
TZID:Europe/Helsinki
BEGIN:DAYLIGHT
TZOFFSETFROM:+0200
TZOFFSETTO:+0300
TZNAME:EEST
DTSTART:20180325T010000
END:DAYLIGHT
BEGIN:STANDARD
TZOFFSETFROM:+0300
TZOFFSETTO:+0200
TZNAME:EET
DTSTART:20181028T010000
END:STANDARD
BEGIN:DAYLIGHT
TZOFFSETFROM:+0200
TZOFFSETTO:+0300
TZNAME:EEST
DTSTART:20190331T010000
END:DAYLIGHT
BEGIN:STANDARD
TZOFFSETFROM:+0300
TZOFFSETTO:+0200
TZNAME:EET
DTSTART:20191027T010000
END:STANDARD
BEGIN:DAYLIGHT
TZOFFSETFROM:+0200
TZOFFSETTO:+0300
TZNAME:EEST
DTSTART:20200329T010000
END:DAYLIGHT
BEGIN:STANDARD
TZOFFSETFROM:+0300
TZOFFSETTO:+0200
TZNAME:EET
DTSTART:20201025T010000
END:STANDARD
END:VTIMEZONE
BEGIN:VEVENT
DTSTART;TZID=Europe/Helsinki:20190514T090000
DTEND;TZID=Europe/Helsinki:20190516T180000
DTSTAMP:20260422T225810
CREATED:20181207T102807Z
LAST-MODIFIED:20181213T091922Z
UID:2415-1557824400-1558029600@hbk.hr
SUMMARY:58. plenarno zasjedanje HBK\, 14. - 16. svibnja 2019.
DESCRIPTION:Proljetno\, 58. plenarno zasjedanje Sabora HBK\, održat će se od 14. do 16. svibnja 2019. u prostorima Hrvatske biskupske konferencije na Ksaveru\, u Zagrebu.
URL:https://hbk.hr/kalendar/58-plenarno-zasjedanje-hbk/
CATEGORIES:Najave
END:VEVENT
BEGIN:VEVENT
DTSTART;TZID=Europe/Helsinki:20190516T130000
DTEND;TZID=Europe/Helsinki:20190516T140000
DTSTAMP:20260422T225810
CREATED:20190515T134443Z
LAST-MODIFIED:20190515T134443Z
UID:3891-1558011600-1558015200@hbk.hr
SUMMARY:Konferencija za novinare HBK\, 16. svibnja 2019.
DESCRIPTION:Konferencija za novinare povodom 58. plenarnog zasjedanja HBK održat će se u četvrtak\, 16. svibnja 2019.\, u 12 sati u prostorima Hrvatske biskupske konferencije u Zagrebu\, Ksaverska cesta 12a.
URL:https://hbk.hr/kalendar/konferencija-za-novinare-hbk-16-svibnja-2019/
END:VEVENT
BEGIN:VEVENT
DTSTART;TZID=Europe/Helsinki:20190522T010000
DTEND;TZID=Europe/Helsinki:20190522T013000
DTSTAMP:20260422T225810
CREATED:20190521T072257Z
LAST-MODIFIED:20190522T095448Z
UID:3926-1558486800-1558488600@hbk.hr
SUMMARY:Predstavljanje Izjave Komisije Iustitia et pax\, 22. svibnja 2019.
DESCRIPTION:Konferencija za novinare na kojoj će biti predstavljena Izjava Komisije Hrvatske biskupske konferencije Iustitia et pax u povodu  predstojećih izbora za Europski parlament održat će se srijedu\, 22. svibnja u 12 sati u prostorima Hrvatske biskupske konferencije\, Ksaverska cesta 12A u Zagrebu.
URL:https://hbk.hr/kalendar/predstavljanje-izjave-komisije-iustitia-et-pax-22-svibnja-2019/
END:VEVENT
END:VCALENDAR