BEGIN:VCALENDAR
VERSION:2.0
PRODID:-//Hrvatska biskupska konferencija - ECPv6.15.10//NONSGML v1.0//EN
CALSCALE:GREGORIAN
METHOD:PUBLISH
X-WR-CALNAME:Hrvatska biskupska konferencija
X-ORIGINAL-URL:https://hbk.hr
X-WR-CALDESC:Događaji za Hrvatska biskupska konferencija
REFRESH-INTERVAL;VALUE=DURATION:PT1H
X-Robots-Tag:noindex
X-PUBLISHED-TTL:PT1H
BEGIN:VTIMEZONE
TZID:Europe/Helsinki
BEGIN:DAYLIGHT
TZOFFSETFROM:+0200
TZOFFSETTO:+0300
TZNAME:EEST
DTSTART:20180325T010000
END:DAYLIGHT
BEGIN:STANDARD
TZOFFSETFROM:+0300
TZOFFSETTO:+0200
TZNAME:EET
DTSTART:20181028T010000
END:STANDARD
BEGIN:DAYLIGHT
TZOFFSETFROM:+0200
TZOFFSETTO:+0300
TZNAME:EEST
DTSTART:20190331T010000
END:DAYLIGHT
BEGIN:STANDARD
TZOFFSETFROM:+0300
TZOFFSETTO:+0200
TZNAME:EET
DTSTART:20191027T010000
END:STANDARD
BEGIN:DAYLIGHT
TZOFFSETFROM:+0200
TZOFFSETTO:+0300
TZNAME:EEST
DTSTART:20200329T010000
END:DAYLIGHT
BEGIN:STANDARD
TZOFFSETFROM:+0300
TZOFFSETTO:+0200
TZNAME:EET
DTSTART:20201025T010000
END:STANDARD
END:VTIMEZONE
BEGIN:VEVENT
DTSTART;VALUE=DATE:20190617
DTEND;VALUE=DATE:20190619
DTSTAMP:20260422T212637
CREATED:20181206T121453Z
LAST-MODIFIED:20190610T125423Z
UID:2482-1560733200-1560819599@hbk.hr
SUMMARY:Izvanredno zasjedanje HBK\, 17. lipnja 2019.
DESCRIPTION:Izvanredno zasjedanje HBK održat će se 17. lipnja 2019. u prostorima Hrvatske biskupske konferencije na Ksaveru u Zagrebu.
URL:https://hbk.hr/kalendar/izvanredno-zasjedanje-hbk-2/
END:VEVENT
END:VCALENDAR