BEGIN:VCALENDAR
VERSION:2.0
PRODID:-//Hrvatska biskupska konferencija - ECPv6.15.10//NONSGML v1.0//EN
CALSCALE:GREGORIAN
METHOD:PUBLISH
X-WR-CALNAME:Hrvatska biskupska konferencija
X-ORIGINAL-URL:https://hbk.hr
X-WR-CALDESC:Događaji za Hrvatska biskupska konferencija
REFRESH-INTERVAL;VALUE=DURATION:PT1H
X-Robots-Tag:noindex
X-PUBLISHED-TTL:PT1H
BEGIN:VTIMEZONE
TZID:Europe/Helsinki
BEGIN:DAYLIGHT
TZOFFSETFROM:+0200
TZOFFSETTO:+0300
TZNAME:EEST
DTSTART:20180325T010000
END:DAYLIGHT
BEGIN:STANDARD
TZOFFSETFROM:+0300
TZOFFSETTO:+0200
TZNAME:EET
DTSTART:20181028T010000
END:STANDARD
BEGIN:DAYLIGHT
TZOFFSETFROM:+0200
TZOFFSETTO:+0300
TZNAME:EEST
DTSTART:20190331T010000
END:DAYLIGHT
BEGIN:STANDARD
TZOFFSETFROM:+0300
TZOFFSETTO:+0200
TZNAME:EET
DTSTART:20191027T010000
END:STANDARD
BEGIN:DAYLIGHT
TZOFFSETFROM:+0200
TZOFFSETTO:+0300
TZNAME:EEST
DTSTART:20200329T010000
END:DAYLIGHT
BEGIN:STANDARD
TZOFFSETFROM:+0300
TZOFFSETTO:+0200
TZNAME:EET
DTSTART:20201025T010000
END:STANDARD
END:VTIMEZONE
BEGIN:VEVENT
DTSTART;VALUE=DATE:20191016
DTEND;VALUE=DATE:20191020
DTSTAMP:20260422T144317
CREATED:20181206T121629Z
LAST-MODIFIED:20191014T131340Z
UID:2485-1571187600-1571446799@hbk.hr
SUMMARY:59. zasjedanje Sabora HBK\, 16. - 18. listopada 2019.
DESCRIPTION:Redovito\, plenarno 59. zasjedanje Sabora Hrvatske biskupske konferencije\, pod predsjedanjem predsjednika HBK zadarskog nadbiskupa Želimira Puljića\, održat će se od 16. do 18. listopada u Zagrebu\, u sjedištu HBK\, Ksaverska cesta 12a.  \nU četvrtak\, 17. listopada\, članovi HBK sudjelovat će na euharistijskom slavlju koje će u zagrebačkoj katedrali u 18 sati na početku svoje misije u Republici Hrvatskoj predvoditi apostolski nuncij nadbiskup Giorgio Lingua. \nZasjedanje će započeti u srijedu\, 16. listopada u 10 sati. Početak zasjedanja otvoren je za medije.
URL:https://hbk.hr/kalendar/59-zasjedanje-sabora-hbk/
END:VEVENT
BEGIN:VEVENT
DTSTART;TZID=Europe/Helsinki:20191018T090000
DTEND;TZID=Europe/Helsinki:20191018T140000
DTSTAMP:20260422T144317
CREATED:20191017T072926Z
LAST-MODIFIED:20191018T073320Z
UID:4293-1571389200-1571407200@hbk.hr
SUMMARY:Konferencija za novinare\, 18. listopada 2019.
DESCRIPTION:Konferencija za novinare povodom 59. plenarnog zasjedanja Sabora HBK održat će se sutra u petak\, 18. listopada 2019.\, u 12 sati u prostorima Hrvatske biskupske konferencije u Zagrebu\, Ksaverska cesta 12a.
URL:https://hbk.hr/kalendar/konferencija-za-novinare-18-listopada-2019/
END:VEVENT
END:VCALENDAR