BEGIN:VCALENDAR
VERSION:2.0
PRODID:-//Hrvatska biskupska konferencija - ECPv6.15.10//NONSGML v1.0//EN
CALSCALE:GREGORIAN
METHOD:PUBLISH
X-WR-CALNAME:Hrvatska biskupska konferencija
X-ORIGINAL-URL:https://hbk.hr
X-WR-CALDESC:Događaji za Hrvatska biskupska konferencija
REFRESH-INTERVAL;VALUE=DURATION:PT1H
X-Robots-Tag:noindex
X-PUBLISHED-TTL:PT1H
BEGIN:VTIMEZONE
TZID:Europe/Helsinki
BEGIN:DAYLIGHT
TZOFFSETFROM:+0200
TZOFFSETTO:+0300
TZNAME:EEST
DTSTART:20190331T010000
END:DAYLIGHT
BEGIN:STANDARD
TZOFFSETFROM:+0300
TZOFFSETTO:+0200
TZNAME:EET
DTSTART:20191027T010000
END:STANDARD
BEGIN:DAYLIGHT
TZOFFSETFROM:+0200
TZOFFSETTO:+0300
TZNAME:EEST
DTSTART:20200329T010000
END:DAYLIGHT
BEGIN:STANDARD
TZOFFSETFROM:+0300
TZOFFSETTO:+0200
TZNAME:EET
DTSTART:20201025T010000
END:STANDARD
BEGIN:DAYLIGHT
TZOFFSETFROM:+0200
TZOFFSETTO:+0300
TZNAME:EEST
DTSTART:20210328T010000
END:DAYLIGHT
BEGIN:STANDARD
TZOFFSETFROM:+0300
TZOFFSETTO:+0200
TZNAME:EET
DTSTART:20211031T010000
END:STANDARD
END:VTIMEZONE
BEGIN:VEVENT
DTSTART;TZID=Europe/Helsinki:20200303T090000
DTEND;TZID=Europe/Helsinki:20200304T180000
DTSTAMP:20260422T222145
CREATED:20191112T100404Z
LAST-MODIFIED:20200227T103919Z
UID:4342-1583226000-1583344800@hbk.hr
SUMMARY:Pastoralno-katehetski kolokvij za svećenike\, Zagreb\, 3. - 4. ožujka 2020.
DESCRIPTION:Deveti pastoralno-katehetski kolokvij za svećenike u organizaciji Vijeća za kler i Vijeća za katehizaciju i novu evangelizaciju Hrvatske biskupske konferencije održat će se 3. i 4. ožujka 2020. u dvorani Vijenac Nadbiskupijskog pastoralnog instituta u Zagrebu\, Kaptol 29a. Glavna tema kolokvija je „ Katekumenat – Nadahnuće za katehezu i evangelizaciju odraslih.“ \nPrvoga dana kolokvija\, 3. ožujka\, nakon uvodnog govora predsjednika Vijeća HBK za katehizaciju i novu evangelizaciju đakovačko osječkog nadbiskupa Đure Hranića\, prvo predavanje o temi „Skice o zrelosti odraslih u suvremenom svijetu“ održat će dr. sc. Anto Mikić. Uslijedit će predavanja „“Katekumenat – nadahnuće za katehezu i evangelizaciju odraslih“ prof. dr. sc. Ivana Bodrožića\, „Živi vjernički krugovi za sudjelno zajedništvo u rastu vjere“ dr. sc. Milana Šimunovića\, „A što mi čekamo?“ (EG\, br. 120.). O evangelizacijskoj zauzetosti vjernika laika“ dr. sc. Dražena Živića. Potom su predviđene radionice. Program prvoga dana završava euharistijskim slavljem koje će predvoditi predsjednik Vijeća HBK za kler pomoćni biskup đakovačko osječki Ivan Ćurić. \nRadni dio drugoga dana kolokvija\, 4. ožujka\, započet će okruglim stolom o temi „Nova sinteza s kulturom – izazov evangelizaciji (usp. EG\, br. 129.)“ na kojem će sudjelovati prof. dr. sc. Ružica Pšihistal\, gđa Marija Perčić i mr. sc. Ivica Đaković. Uslijedit će tematska rasprava i rad u radionicama. Potom će u 13.30 sati biti upriličeno predstavljanje zbornika „Biti obitelj u obitelji Crkve. Naraštaj naraštaju kazuje djela tvoja (Ps 145\, 4)“ o kojemu će govoriti prof. dr. sc. Josip Šimunović i mr. sc. Josip Periš. Nakon toga održat će se završna rasprava\, a završnu sintezu kolokvija prikazat će biskup Ćurić.
URL:https://hbk.hr/kalendar/pastoralno-katehetski-kolokvij-za-svecenike-zagreb-3-4-ozujka-2020/
CATEGORIES:Najave
END:VEVENT
BEGIN:VEVENT
DTSTART;TZID=Europe/Helsinki:20200324T090000
DTEND;TZID=Europe/Helsinki:20201225T180000
DTSTAMP:20260422T222145
CREATED:20200320T115020Z
LAST-MODIFIED:20200320T115132Z
UID:4707-1585040400-1608919200@hbk.hr
SUMMARY:Molitvena devetnica »Hrvatska moli za život«\, 25. ožujka - 25. prosinca 2020.
DESCRIPTION:U povodu 25. obljetnice enciklike »Evanđelje života« svetoga pape Ivana Pavla II. Vijeće Hrvatske biskupske konferencije za život i obitelj predlaže Veliku molitvenu devetnicu »Hrvatska moli za život« svakog 25. dana u mjesecu od ožujka do prosinca 2020. \nOpća nakana devetnice je da hrvatski narod svjedoči evanđelje života poštujući\, braneći i ljubeći svaki ljudski život i služeći mu konkretnim molitvenim i djelatnim zauzimanjem (usp. Evanđelje života\, 5). Ta je nakana aktualna i u kontekstu pandemije koronavirusom koja osobito ugrožava živote starijih osoba. \nPriređeni materijal za devetnicu dostupan je na mrežnim stranicama Ureda HBK za život i obitelj. \nU datim okolnostima\, na provođenje ove devetnice ponajprije se potiču obitelji\, koje su kao »domaće Crkve« pozvane na intenzivniju molitvu u ovom kriznom vremenu. \nUvod u devetnicu bit će euharistijsko klanjanje koje će\, na uočnicu svetkovine Navještenja Gospodinova u utorak 24. ožujka 2020. s početkom u 20 sati\, u dubrovačkoj katedrali predvoditi dubrovački biskup Mate Uzinić\, predsjednik Vijeća HBK za život i obitelj. \nPrijenos uživo euharistijskog klanjanja moći će se pratiti na mrežnim stranicama Dubrovačke biskupije i na osobnom Facebook profilu biskupa Mate Uzinića\, a prenosit će ga i Laudato televizija.
URL:https://hbk.hr/kalendar/velika-molitvena-devetnica-hrvatska-moli-za-zivot/
END:VEVENT
END:VCALENDAR