BEGIN:VCALENDAR
VERSION:2.0
PRODID:-//Hrvatska biskupska konferencija - ECPv6.15.10//NONSGML v1.0//EN
CALSCALE:GREGORIAN
METHOD:PUBLISH
X-ORIGINAL-URL:https://hbk.hr
X-WR-CALDESC:Događaji za Hrvatska biskupska konferencija
REFRESH-INTERVAL;VALUE=DURATION:PT1H
X-Robots-Tag:noindex
X-PUBLISHED-TTL:PT1H
BEGIN:VTIMEZONE
TZID:Europe/Helsinki
BEGIN:DAYLIGHT
TZOFFSETFROM:+0200
TZOFFSETTO:+0300
TZNAME:EEST
DTSTART:20200329T010000
END:DAYLIGHT
BEGIN:STANDARD
TZOFFSETFROM:+0300
TZOFFSETTO:+0200
TZNAME:EET
DTSTART:20201025T010000
END:STANDARD
BEGIN:DAYLIGHT
TZOFFSETFROM:+0200
TZOFFSETTO:+0300
TZNAME:EEST
DTSTART:20210328T010000
END:DAYLIGHT
BEGIN:STANDARD
TZOFFSETFROM:+0300
TZOFFSETTO:+0200
TZNAME:EET
DTSTART:20211031T010000
END:STANDARD
BEGIN:DAYLIGHT
TZOFFSETFROM:+0200
TZOFFSETTO:+0300
TZNAME:EEST
DTSTART:20220327T010000
END:DAYLIGHT
BEGIN:STANDARD
TZOFFSETFROM:+0300
TZOFFSETTO:+0200
TZNAME:EET
DTSTART:20221030T010000
END:STANDARD
END:VTIMEZONE
BEGIN:VEVENT
DTSTART;TZID=Europe/Helsinki:20210413T110000
DTEND;TZID=Europe/Helsinki:20210415T130000
DTSTAMP:20260425T150900
CREATED:20210122T093119Z
LAST-MODIFIED:20210122T093119Z
UID:5741-1618311600-1618491600@hbk.hr
SUMMARY:62. redovito zasjedanje Sabora HBK\, 13. - 15. travnja 2021.
DESCRIPTION:Redovito plenarno zasjedanje Sabora Hrvatske biskupske konferencije\, 62. u nizu\, održat će se od 13. do 15. travnja 2021. u prostorima Hrvatske biskupske konferencije u Zagrebu\, Ksaverska cesta 12a.
URL:https://hbk.hr/kalendar/62-redovito-zasjedanje-sabora-hbk-13-15-travnja-2021/
END:VEVENT
END:VCALENDAR