BEGIN:VCALENDAR
VERSION:2.0
PRODID:-//Hrvatska biskupska konferencija - ECPv6.15.10//NONSGML v1.0//EN
CALSCALE:GREGORIAN
METHOD:PUBLISH
X-WR-CALNAME:Hrvatska biskupska konferencija
X-ORIGINAL-URL:https://hbk.hr
X-WR-CALDESC:Događaji za Hrvatska biskupska konferencija
REFRESH-INTERVAL;VALUE=DURATION:PT1H
X-Robots-Tag:noindex
X-PUBLISHED-TTL:PT1H
BEGIN:VTIMEZONE
TZID:Europe/Helsinki
BEGIN:DAYLIGHT
TZOFFSETFROM:+0200
TZOFFSETTO:+0300
TZNAME:EEST
DTSTART:20200329T010000
END:DAYLIGHT
BEGIN:STANDARD
TZOFFSETFROM:+0300
TZOFFSETTO:+0200
TZNAME:EET
DTSTART:20201025T010000
END:STANDARD
BEGIN:DAYLIGHT
TZOFFSETFROM:+0200
TZOFFSETTO:+0300
TZNAME:EEST
DTSTART:20210328T010000
END:DAYLIGHT
BEGIN:STANDARD
TZOFFSETFROM:+0300
TZOFFSETTO:+0200
TZNAME:EET
DTSTART:20211031T010000
END:STANDARD
BEGIN:DAYLIGHT
TZOFFSETFROM:+0200
TZOFFSETTO:+0300
TZNAME:EEST
DTSTART:20220327T010000
END:DAYLIGHT
BEGIN:STANDARD
TZOFFSETFROM:+0300
TZOFFSETTO:+0200
TZNAME:EET
DTSTART:20221030T010000
END:STANDARD
END:VTIMEZONE
BEGIN:VEVENT
DTSTART;TZID=Europe/Helsinki:20210522T113000
DTEND;TZID=Europe/Helsinki:20210522T140000
DTSTAMP:20260425T163458
CREATED:20210501T113959Z
LAST-MODIFIED:20210501T113959Z
UID:6086-1621683000-1621692000@hbk.hr
SUMMARY:Biskupsko ređenje mons. Ranka Vidovića\, Hvar\, 22. svibnja 2021.
DESCRIPTION:Slavlje biskupskog ređenja imenovanog hvarskog biskupa mons. Ranka Vidovića bit će u Hvaru u subotu 22. svibnja u 10.30\, u katedrali sv. Stjepana I.\, pape i mučenika. \nGlavni zareditelj bit će splitsko-makarski nadbiskup i metropolit mons. Marin Barišić\, a suzareditelji splitsko-makarski nadbiskup koadjutor i apostolski upravitelj porečki i pulski mons. Dražen Kutleša te mostarsko-duvanjski biskup i apostolski upravitelj trebinjsko-mrkanski i hvarski mons. Petar Palić. \nSlavlju će prethoditi duhovna priprava\, a zbog neizvjesnih epidemioloških prilika\, biskupsko ređenje održat će se u skladu s odredbama Stožera civilne zaštite Republike Hrvatske.
URL:https://hbk.hr/kalendar/biskupsko-redenje-mons-ranka-vidovica-hvar-22-svibnja-2021/
END:VEVENT
END:VCALENDAR