BEGIN:VCALENDAR
VERSION:2.0
PRODID:-//Hrvatska biskupska konferencija - ECPv6.15.10//NONSGML v1.0//EN
CALSCALE:GREGORIAN
METHOD:PUBLISH
X-ORIGINAL-URL:https://hbk.hr
X-WR-CALDESC:Događaji za Hrvatska biskupska konferencija
REFRESH-INTERVAL;VALUE=DURATION:PT1H
X-Robots-Tag:noindex
X-PUBLISHED-TTL:PT1H
BEGIN:VTIMEZONE
TZID:Europe/Helsinki
BEGIN:DAYLIGHT
TZOFFSETFROM:+0200
TZOFFSETTO:+0300
TZNAME:EEST
DTSTART:20230326T010000
END:DAYLIGHT
BEGIN:STANDARD
TZOFFSETFROM:+0300
TZOFFSETTO:+0200
TZNAME:EET
DTSTART:20231029T010000
END:STANDARD
BEGIN:DAYLIGHT
TZOFFSETFROM:+0200
TZOFFSETTO:+0300
TZNAME:EEST
DTSTART:20240331T010000
END:DAYLIGHT
BEGIN:STANDARD
TZOFFSETFROM:+0300
TZOFFSETTO:+0200
TZNAME:EET
DTSTART:20241027T010000
END:STANDARD
BEGIN:DAYLIGHT
TZOFFSETFROM:+0200
TZOFFSETTO:+0300
TZNAME:EEST
DTSTART:20250330T010000
END:DAYLIGHT
BEGIN:STANDARD
TZOFFSETFROM:+0300
TZOFFSETTO:+0200
TZNAME:EET
DTSTART:20251026T010000
END:STANDARD
END:VTIMEZONE
BEGIN:VEVENT
DTSTART;TZID=Europe/Helsinki:20240430T090000
DTEND;TZID=Europe/Helsinki:20240503T113000
DTSTAMP:20260426T071846
CREATED:20240430T103826Z
LAST-MODIFIED:20240430T103826Z
UID:8312-1714467600-1714735800@hbk.hr
SUMMARY:3. svibnja 2024. - Konferencija za novinare uoči susreta Hrvatske katoličke mladeži u Gospiću
DESCRIPTION:Uoči 12. susreta hrvatske katoličke mladeži koji će se pod geslom „Raduj se za svoje mladosti“ (usp. Prop 11\, 9) održati u Gospiću u subotu 4. svibnja 2024.\, bit će održana konferencija za novinare u petak\, 3. svibnja 2024.\, s početkom u 11 sati u Biskupskom ordinarijatu u Gospiću\, Senjskih žrtava 36.
URL:https://hbk.hr/kalendar/3-svibnja-2024-konferencija-za-novinare-uoci-susreta-hrvatske-katolicke-mladezi-u-gospicu/
END:VEVENT
BEGIN:VEVENT
DTSTART;TZID=Europe/Helsinki:20240430T140000
DTEND;TZID=Europe/Helsinki:20240519T003000
DTSTAMP:20260426T071846
CREATED:20240426T123923Z
LAST-MODIFIED:20240430T103926Z
UID:8300-1714485600-1716078600@hbk.hr
SUMMARY:18. svibnja 2024. - Liturgijski spomen na bleiburške žrtve
DESCRIPTION:Godišnji spomen žrtava Bleiburga i križnih putova na završetku II. svjetskog rata i ove će godine biti obilježen na nekoliko mjesta. \nU župnoj crkvi sv. Petra i Pavla\, Kirchplatz 2\, u Bleiburgu u petak 17. svibnja 2024. s početkom u 18 sati bit će slavljena sveta misa koju će predvoditi fra Jozo Grbeš\, provincijal Hercegovačke franjevačke provincije Uznesenja BDM. Na misi će pjevati Mješoviti zbor s Humca (Ljubuški). Prije svete mise\, s početkom u 17.15 sati\, molit će se krunica. \nIdućeg dana\, u subotu 18. svibnja 2024.\, na Gradskom groblju Mirogoju u Zagrebu molitvu za bleiburške i žrtve križnih putova predvodit će vojni ordinarij u Republici Hrvatskoj mons Jure Bogdan s početkom u 9.30 sati. \nIstoga dana pomoćni biskup zagrebački Mijo Gorski predvodit će euharistijsko slavlje u Crkvi Muke Isusove u Maclju u 12.15 sati.
URL:https://hbk.hr/kalendar/liturgijski-spomen-na-bleiburske-i-zrtve-kriznih-putova/
END:VEVENT
END:VCALENDAR